BEGIN:VCALENDAR
VERSION:2.0
PRODID:-//Bücherei Pflaumheim - ECPv6.15.13//NONSGML v1.0//EN
CALSCALE:GREGORIAN
METHOD:PUBLISH
X-ORIGINAL-URL:https://buecherei-pflaumheim.de
X-WR-CALDESC:Veranstaltungen für Bücherei Pflaumheim
REFRESH-INTERVAL;VALUE=DURATION:PT1H
X-Robots-Tag:noindex
X-PUBLISHED-TTL:PT1H
BEGIN:VTIMEZONE
TZID:Europe/Berlin
BEGIN:DAYLIGHT
TZOFFSETFROM:+0100
TZOFFSETTO:+0200
TZNAME:CEST
DTSTART:20220327T010000
END:DAYLIGHT
BEGIN:STANDARD
TZOFFSETFROM:+0200
TZOFFSETTO:+0100
TZNAME:CET
DTSTART:20221030T010000
END:STANDARD
BEGIN:DAYLIGHT
TZOFFSETFROM:+0100
TZOFFSETTO:+0200
TZNAME:CEST
DTSTART:20230326T010000
END:DAYLIGHT
BEGIN:STANDARD
TZOFFSETFROM:+0200
TZOFFSETTO:+0100
TZNAME:CET
DTSTART:20231029T010000
END:STANDARD
BEGIN:DAYLIGHT
TZOFFSETFROM:+0100
TZOFFSETTO:+0200
TZNAME:CEST
DTSTART:20240331T010000
END:DAYLIGHT
BEGIN:STANDARD
TZOFFSETFROM:+0200
TZOFFSETTO:+0100
TZNAME:CET
DTSTART:20241027T010000
END:STANDARD
BEGIN:DAYLIGHT
TZOFFSETFROM:+0100
TZOFFSETTO:+0200
TZNAME:CEST
DTSTART:20250330T010000
END:DAYLIGHT
BEGIN:STANDARD
TZOFFSETFROM:+0200
TZOFFSETTO:+0100
TZNAME:CET
DTSTART:20251026T010000
END:STANDARD
BEGIN:DAYLIGHT
TZOFFSETFROM:+0100
TZOFFSETTO:+0200
TZNAME:CEST
DTSTART:20260329T010000
END:DAYLIGHT
BEGIN:STANDARD
TZOFFSETFROM:+0200
TZOFFSETTO:+0100
TZNAME:CET
DTSTART:20261025T010000
END:STANDARD
BEGIN:DAYLIGHT
TZOFFSETFROM:+0100
TZOFFSETTO:+0200
TZNAME:CEST
DTSTART:20270328T010000
END:DAYLIGHT
BEGIN:STANDARD
TZOFFSETFROM:+0200
TZOFFSETTO:+0100
TZNAME:CET
DTSTART:20271031T010000
END:STANDARD
END:VTIMEZONE
BEGIN:VEVENT
DTSTART;TZID=Europe/Berlin:20260415T193000
DTEND;TZID=Europe/Berlin:20260415T210000
DTSTAMP:20260422T173100
CREATED:20260222T094804Z
LAST-MODIFIED:20260222T094804Z
UID:1939-1776281400-1776286800@buecherei-pflaumheim.de
SUMMARY:Spieleabend
DESCRIPTION:Jeden 3. Mittwoch im Monat: Spieleabend mit dem „Ploimer Treff“ im Haus der Vereine \nEs stehen unterschiedliche Spiele mit Spielleiter zur Verfügung. Gerne dürfen auch eigene Spiele mitgebracht werden.\nEinfach vorbeikommen und mitspielen!
URL:https://buecherei-pflaumheim.de/event/spieleabend-4
LOCATION:Haus der Vereine Pflaumheim\, Kirchgasse 1\, Pflaumheim\, 63762
ATTACH;FMTTYPE=image/jpeg:https://buecherei-pflaumheim.de/wp-content/uploads/2026_Spieleabend_Haus-der-Vereine_Insta_4zu5_1080x1350px_01.jpg
END:VEVENT
BEGIN:VEVENT
DTSTART;TZID=Europe/Berlin:20260321T140000
DTEND;TZID=Europe/Berlin:20260321T160000
DTSTAMP:20260422T173100
CREATED:20260222T093343Z
LAST-MODIFIED:20260315T094649Z
UID:1930-1774101600-1774108800@buecherei-pflaumheim.de
SUMMARY:Osterbasteln für Kinder
DESCRIPTION:Die Bücherei Pflaumheim lädt alle Kinder ab 6 Jahren ein zum: \nOsterbasteln in der Bücherei \nAnmeldung in der Bücherei erforderlich! Unkostenbeitrag 4€\nBitte mitbringen: Schere\, Kleber und Stifte
URL:https://buecherei-pflaumheim.de/event/osterbasteln-fuer-kinder
LOCATION:Bücherei in der alten Schule\, Am Kirchplatz 7\, Pflaumheim\, 63762
ATTACH;FMTTYPE=image/jpeg:https://buecherei-pflaumheim.de/wp-content/uploads/IMG-20260313-WA0006.jpg
ORGANIZER;CN="B%C3%BCcherei Pflaumheim":MAILTO:info@buecherei-pflaumheim.de
END:VEVENT
BEGIN:VEVENT
DTSTART;TZID=Europe/Berlin:20260318T183000
DTEND;TZID=Europe/Berlin:20260318T210000
DTSTAMP:20260422T173100
CREATED:20260222T094715Z
LAST-MODIFIED:20260222T094715Z
UID:1937-1773858600-1773867600@buecherei-pflaumheim.de
SUMMARY:Spieleabend
DESCRIPTION:Jeden 3. Mittwoch im Monat: Spieleabend mit dem „Ploimer Treff“ im Haus der Vereine \nEs stehen unterschiedliche Spiele mit Spielleiter zur Verfügung. Gerne dürfen auch eigene Spiele mitgebracht werden.\nEinfach vorbeikommen und mitspielen!
URL:https://buecherei-pflaumheim.de/event/spieleabend-3
LOCATION:Haus der Vereine Pflaumheim\, Kirchgasse 1\, Pflaumheim\, 63762
ATTACH;FMTTYPE=image/jpeg:https://buecherei-pflaumheim.de/wp-content/uploads/2026_Spieleabend_Haus-der-Vereine_Insta_4zu5_1080x1350px_01.jpg
END:VEVENT
BEGIN:VEVENT
DTSTART;TZID=Europe/Berlin:20260307T190000
DTEND;TZID=Europe/Berlin:20260307T220000
DTSTAMP:20260422T173100
CREATED:20260218T204004Z
LAST-MODIFIED:20260218T204148Z
UID:1925-1772910000-1772920800@buecherei-pflaumheim.de
SUMMARY:Autorenlesung Anne Hassel
DESCRIPTION:Die bekannte Miltenberger Autorin Anne Hassel liest aus ihren Kriminalgeschichten. \nEin Abend mit Krimi und Wein in der Bücherei Pflaumheim.\nFreuen Sie sich auf spannende Geschichten und ein entspanntes Beisammensein. \nEinlass ab 18:30 Uhr. Der Eintritt ist frei.
URL:https://buecherei-pflaumheim.de/event/autorenlesung-anne-hassel
LOCATION:Bücherei in der alten Schule\, Am Kirchplatz 7\, Pflaumheim\, 63762
ATTACH;FMTTYPE=image/jpeg:https://buecherei-pflaumheim.de/wp-content/uploads/IMG-20260218-WA0005.jpg
ORGANIZER;CN="B%C3%BCcherei Pflaumheim":MAILTO:info@buecherei-pflaumheim.de
END:VEVENT
BEGIN:VEVENT
DTSTART;TZID=Europe/Berlin:20260225T183000
DTEND;TZID=Europe/Berlin:20260225T210000
DTSTAMP:20260422T173100
CREATED:20260222T093800Z
LAST-MODIFIED:20260222T094546Z
UID:1934-1772044200-1772053200@buecherei-pflaumheim.de
SUMMARY:Spieleabend
DESCRIPTION:Jeden 3. Mittwoch im Monat: Spieleabend mit dem „Ploimer Treff“ im Haus der Vereine \nEs stehen unterschiedliche Spiele mit Spielleiter zur Verfügung. Gerne dürfen auch eigene Spiele mitgebracht werden.\nEinfach vorbeikommen und mitspielen!
URL:https://buecherei-pflaumheim.de/event/spieleabend-2
LOCATION:Haus der Vereine Pflaumheim\, Kirchgasse 1\, Pflaumheim\, 63762
ATTACH;FMTTYPE=image/jpeg:https://buecherei-pflaumheim.de/wp-content/uploads/2026_Spieleabend_Haus-der-Vereine_Insta_4zu5_1080x1350px_01.jpg
END:VEVENT
BEGIN:VEVENT
DTSTART;TZID=Europe/Berlin:20251217T183000
DTEND;TZID=Europe/Berlin:20251217T210000
DTSTAMP:20260422T173100
CREATED:20251019T092754Z
LAST-MODIFIED:20251019T093813Z
UID:1902-1765996200-1766005200@buecherei-pflaumheim.de
SUMMARY:Spieleabend Dezember
DESCRIPTION:jeden 3. Mittwoch im Monat \nes stehen unterschiedliche Spiele mit Spielleiter zur Verfügung. Gerne dürfen auch eigene Speiele mitgebracht werden.\nEinfach vorbeikommen und mitspielen. \nEine Veranstaltung des Ploimer Treffs zusammen mit der Bücherei Pflaumheim \nim Haus der Vereine.
URL:https://buecherei-pflaumheim.de/event/spieleabend-dezember
LOCATION:Haus der Vereine Pflaumheim\, Kirchgasse 1\, Pflaumheim\, 63762
ATTACH;FMTTYPE=image/jpeg:https://buecherei-pflaumheim.de/wp-content/uploads/2025_Spieleabend_Haus-der-Vereine_Plakat_A3-scaled.jpg
END:VEVENT
BEGIN:VEVENT
DTSTART;TZID=Europe/Berlin:20251122T140000
DTEND;TZID=Europe/Berlin:20251122T160000
DTSTAMP:20260422T173100
CREATED:20251118T201753Z
LAST-MODIFIED:20251118T202250Z
UID:1905-1763820000-1763827200@buecherei-pflaumheim.de
SUMMARY:Adventsbasteln und Laubsägearbeiten
DESCRIPTION:Adventsbasteln in der Bücherei \nund \nLaubsägearbeiten mit der KAB im Raum des „Roten Kreuz“ \nBitte Kleber\, Schere und Stifte mitbringen\nAnmeldung in der Bücherei erforderlich\nUnkostenbeitrag 5€
URL:https://buecherei-pflaumheim.de/event/adventsbasteln-und-laubsaegearbeiten
LOCATION:Bücherei in der alten Schule\, Am Kirchplatz 7\, Pflaumheim\, 63762
ATTACH;FMTTYPE=image/jpeg:https://buecherei-pflaumheim.de/wp-content/uploads/Adventsbasteln_2025_mit_Laubsaege_Plakat_A3-scaled.jpg
ORGANIZER;CN="B%C3%BCcherei Pflaumheim":MAILTO:info@buecherei-pflaumheim.de
END:VEVENT
BEGIN:VEVENT
DTSTART;TZID=Europe/Berlin:20251121T190000
DTEND;TZID=Europe/Berlin:20251121T220000
DTSTAMP:20260422T173100
CREATED:20251019T090636Z
LAST-MODIFIED:20251019T090636Z
UID:1892-1763751600-1763762400@buecherei-pflaumheim.de
SUMMARY:Literarischer Salon - Shakespeare King Richard IV
DESCRIPTION:Betrachtungen zu Shakespeares King Richard IV \nEine Veranstaltung der Musikschule Großostheim\nin Zusammenarbeit mit der Volkshochschule Großostheim und der Bücherei Pflaumheim
URL:https://buecherei-pflaumheim.de/event/literarischer-salon-shakespeare-king-richard-iv
LOCATION:Musikschule im Nöthigsgut – Großostheim\, Kanzleistraße 2\, Großostheim\, 63762
ATTACH;FMTTYPE=image/jpeg:https://buecherei-pflaumheim.de/wp-content/uploads/2025-11-21_Literarischer-Salon_Plakat_King_Henry_IV_A3_01-scaled.jpg
ORGANIZER;CN="Musikschule Gro%C3%9Fostheim":MAILTO:musikschule-grossostheim@mgo-data.de
END:VEVENT
BEGIN:VEVENT
DTSTART;VALUE=DATE:20251121
DTEND;VALUE=DATE:20251122
DTSTAMP:20260422T173100
CREATED:20250126T122814Z
LAST-MODIFIED:20250126T122814Z
UID:1817-1763683200-1763769599@buecherei-pflaumheim.de
SUMMARY:Bundesweiter Vorlesetag
DESCRIPTION:
URL:https://buecherei-pflaumheim.de/event/bundesweiter-vorlesetag-4
LOCATION:Bücherei in der alten Schule\, Am Kirchplatz 7\, Pflaumheim\, 63762
ORGANIZER;CN="B%C3%BCcherei Pflaumheim":MAILTO:info@buecherei-pflaumheim.de
END:VEVENT
BEGIN:VEVENT
DTSTART;TZID=Europe/Berlin:20251119T183000
DTEND;TZID=Europe/Berlin:20251119T210000
DTSTAMP:20260422T173100
CREATED:20251019T092428Z
LAST-MODIFIED:20251118T202224Z
UID:1897-1763577000-1763586000@buecherei-pflaumheim.de
SUMMARY:Spieleabend November
DESCRIPTION:jeden 3. Mittwoch im Monat \nes stehen unterschiedliche Spiele mit Spielleiter zur Verfügung. Gerne dürfen auch eigene Speiele mitgebracht werden.\nEinfach vorbeikommen und mitspielen. \nEine Veranstaltung des Ploimer Treffs zusammen mit der Bücherei Pflaumheim \nim Haus der Vereine.
URL:https://buecherei-pflaumheim.de/event/spieleabend
LOCATION:Haus der Vereine Pflaumheim\, Kirchgasse 1\, Pflaumheim\, 63762
ATTACH;FMTTYPE=image/jpeg:https://buecherei-pflaumheim.de/wp-content/uploads/2025_Spieleabend_Haus-der-Vereine_Plakat_A3-1-scaled.jpg
END:VEVENT
BEGIN:VEVENT
DTSTART;TZID=Europe/Berlin:20251107T190000
DTEND;TZID=Europe/Berlin:20251108T100000
DTSTAMP:20260422T173100
CREATED:20250126T122732Z
LAST-MODIFIED:20250126T122732Z
UID:1815-1762542000-1762596000@buecherei-pflaumheim.de
SUMMARY:Schmökernacht
DESCRIPTION:
URL:https://buecherei-pflaumheim.de/event/schmoekernacht
LOCATION:Bücherei in der alten Schule\, Am Kirchplatz 7\, Pflaumheim\, 63762
ORGANIZER;CN="B%C3%BCcherei Pflaumheim":MAILTO:info@buecherei-pflaumheim.de
END:VEVENT
BEGIN:VEVENT
DTSTART;TZID=Europe/Berlin:20250928T100000
DTEND;TZID=Europe/Berlin:20250928T170000
DTSTAMP:20260422T173100
CREATED:20250126T122642Z
LAST-MODIFIED:20250925T195530Z
UID:1813-1759053600-1759078800@buecherei-pflaumheim.de
SUMMARY:Tag der offenen Bücherei
DESCRIPTION:Ganztägige Ausleihe. \nab 14:00 Uhr Büchereicafe. Kaffee und Kuchen bei einem gemütlichen Plausch \nAktionen für Kinder. Ab 14:00 Uhr Basteln & Kindertattoos\num 14:30 und 15:30 Uhr Erzähltheater und Leider zum mitsingen \n 
URL:https://buecherei-pflaumheim.de/event/tag-der-offenen-buecherei-3
LOCATION:Bücherei in der alten Schule\, Am Kirchplatz 7\, Pflaumheim\, 63762
ATTACH;FMTTYPE=image/jpeg:https://buecherei-pflaumheim.de/wp-content/uploads/IMG-20250920-WA0000.jpg
ORGANIZER;CN="B%C3%BCcherei Pflaumheim":MAILTO:info@buecherei-pflaumheim.de
END:VEVENT
BEGIN:VEVENT
DTSTART;TZID=Europe/Berlin:20250706T100000
DTEND;TZID=Europe/Berlin:20250706T160000
DTSTAMP:20260422T173100
CREATED:20250126T122552Z
LAST-MODIFIED:20250702T185834Z
UID:1811-1751796000-1751817600@buecherei-pflaumheim.de
SUMMARY:Kinderaktionstag
DESCRIPTION:Kinderaktionstag mit vielen Aktionen für unsere kleinen und großen Leserinnen und Leser \n– mit Lesung der Kinderbuchautorin Anne Hassel (10:30 – 12:30 Uhr)\n– ganztägige Ausleihe\n– Lese-Rally (ab 14:00 Uhr)\n– Lesewiese im Kirchgarten\n– Buchflohmarkt speziell mit Kinder und Jugendbüchern\n– alkoholfreie Cocktails\n– Kuchen-Bar mit Snacks Muffins und Co.
URL:https://buecherei-pflaumheim.de/event/kinderaktionstag
LOCATION:Bücherei in der alten Schule\, Am Kirchplatz 7\, Pflaumheim\, 63762
ATTACH;FMTTYPE=image/png:https://buecherei-pflaumheim.de/wp-content/uploads/Kinder-Aktionstag-2025.png
ORGANIZER;CN="B%C3%BCcherei Pflaumheim":MAILTO:info@buecherei-pflaumheim.de
END:VEVENT
BEGIN:VEVENT
DTSTART;TZID=Europe/Berlin:20250704T190000
DTEND;TZID=Europe/Berlin:20250704T220000
DTSTAMP:20260422T173100
CREATED:20250126T122507Z
LAST-MODIFIED:20250702T190134Z
UID:1809-1751655600-1751666400@buecherei-pflaumheim.de
SUMMARY:Literarischer Salon - Shakespeare Richard II
DESCRIPTION:Betrachtungen zu Shakespeare’s Richard II \nEine Veranstaltung der Musikschule Großostheim\nin Kooperation mit der VHS Großostheim und der\nBücherei Pflaumheim. \nMit Solisten und Ensembles der Musikschule Großostheim \nKonzeption: Christoph Hornbach\, Bernd Nonnweiler
URL:https://buecherei-pflaumheim.de/event/literarischer-salon-shakespeare-richard-ii
LOCATION:Musikschule im Nöthigsgut – Großostheim\, Kanzleistraße 2\, Großostheim\, 63762
ATTACH;FMTTYPE=image/jpeg:https://buecherei-pflaumheim.de/wp-content/uploads/2025-07-04_Literarischer-Salon_Plakat_Koenig_Richard_II_A3-scaled.jpg
ORGANIZER;CN="Musikschule Gro%C3%9Fostheim":MAILTO:musikschule-grossostheim@mgo-data.de
END:VEVENT
BEGIN:VEVENT
DTSTART;TZID=Europe/Berlin:20250615T100000
DTEND;TZID=Europe/Berlin:20250615T170000
DTSTAMP:20260422T173100
CREATED:20250126T122306Z
LAST-MODIFIED:20250126T123022Z
UID:1806-1749981600-1750006800@buecherei-pflaumheim.de
SUMMARY:Großer Buchflohmarkt
DESCRIPTION:Auf dem Kirchplatz in Pflaumheim. \nZur Auswahl stehen etwa 8.000 gespendete Bücher\, CDs\, DVDs und Spiele. \nBei widrigen Wetterverhältnissen findet der Flohmarkt im Haus der Vereine am Kirchplatz statt.
URL:https://buecherei-pflaumheim.de/event/grosser-buchflohmarkt-2
LOCATION:Kirchplatz vor der Bücherei\, Am Kirchplatz 7\, Pflaumheim\, 63762
ATTACH;FMTTYPE=image/jpeg:https://buecherei-pflaumheim.de/wp-content/uploads/2020/02/DSC_0806_5.jpg
ORGANIZER;CN="B%C3%BCcherei Pflaumheim":MAILTO:info@buecherei-pflaumheim.de
END:VEVENT
BEGIN:VEVENT
DTSTART;TZID=Europe/Berlin:20250405T190000
DTEND;TZID=Europe/Berlin:20250405T220000
DTSTAMP:20260422T173100
CREATED:20250126T122157Z
LAST-MODIFIED:20250321T182821Z
UID:1804-1743879600-1743890400@buecherei-pflaumheim.de
SUMMARY:Autorenlesung - Johannes Zang
DESCRIPTION:
URL:https://buecherei-pflaumheim.de/event/autorenlesung-johannes-zang
LOCATION:Bücherei in der alten Schule\, Am Kirchplatz 7\, Pflaumheim\, 63762
ATTACH;FMTTYPE=image/png:https://buecherei-pflaumheim.de/wp-content/uploads/Screenshot_20250321-192515.png
ORGANIZER;CN="B%C3%BCcherei Pflaumheim":MAILTO:info@buecherei-pflaumheim.de
END:VEVENT
BEGIN:VEVENT
DTSTART;TZID=Europe/Berlin:20250404T163000
DTEND;TZID=Europe/Berlin:20250404T220000
DTSTAMP:20260422T173100
CREATED:20250126T122103Z
LAST-MODIFIED:20250309T203135Z
UID:1802-1743784200-1743804000@buecherei-pflaumheim.de
SUMMARY:Lange Nacht der Bibliotheken
DESCRIPTION:Lange Nacht der Bibliotheken mit Vorlesen und Spielen auch für Erwachsene. \n17:00-18:00 Vorlesestunde für Kinder und alle\, die gerne zuhören \n19:00-22:00 Spieleabend für Jugendliche und Erwachsene
URL:https://buecherei-pflaumheim.de/event/lange-nacht-der-bibliotheken
LOCATION:Bücherei in der alten Schule\, Am Kirchplatz 7\, Pflaumheim\, 63762
ATTACH;FMTTYPE=image/png:https://buecherei-pflaumheim.de/wp-content/uploads/Nacht-der-Bibliotheken-2025.png
ORGANIZER;CN="B%C3%BCcherei Pflaumheim":MAILTO:info@buecherei-pflaumheim.de
END:VEVENT
BEGIN:VEVENT
DTSTART;TZID=Europe/Berlin:20250315T140000
DTEND;TZID=Europe/Berlin:20250315T160000
DTSTAMP:20260422T173100
CREATED:20250126T121842Z
LAST-MODIFIED:20250309T202945Z
UID:1799-1742047200-1742054400@buecherei-pflaumheim.de
SUMMARY:Osterbasteln
DESCRIPTION:Osterbasteln in der Bücherei.\nAnmeldung in der Bücherei ist erforderlich.\nUnkostenbeitrag 4€\nBitte Schere\, Kleber und Stifte mitbringen.
URL:https://buecherei-pflaumheim.de/event/osterbasteln-2
LOCATION:Bücherei in der alten Schule\, Am Kirchplatz 7\, Pflaumheim\, 63762
ATTACH;FMTTYPE=image/jpeg:https://buecherei-pflaumheim.de/wp-content/uploads/Osterbasteln_2025_Plakat_A3-scaled.jpg
ORGANIZER;CN="B%C3%BCcherei Pflaumheim":MAILTO:info@buecherei-pflaumheim.de
END:VEVENT
BEGIN:VEVENT
DTSTART;TZID=Europe/Berlin:20250215T190000
DTEND;TZID=Europe/Berlin:20250215T210000
DTSTAMP:20260422T173100
CREATED:20250108T223908Z
LAST-MODIFIED:20250112T195515Z
UID:1790-1739646000-1739653200@buecherei-pflaumheim.de
SUMMARY:Autorenlesung: Elsemarie Maletzke - Magnolienmord
DESCRIPTION:Autorin Elsemarie Maletzke liest aus ihrem Gartenkrimi „Magnolienmord“ \nWeitere Infos zur Autorin und zum Gartenkrimi finden Sie unter: redaktion-maletzke.de/gartenkrimis
URL:https://buecherei-pflaumheim.de/event/autorenlesung-elsemarie-maletzke-magnolienmord
LOCATION:Bücherei in der alten Schule\, Am Kirchplatz 7\, Pflaumheim\, 63762
ATTACH;FMTTYPE=image/jpeg:https://buecherei-pflaumheim.de/wp-content/uploads/2025-02-15_Autorenlesung_Elsemarie_Maletzke_Homepage.jpg
ORGANIZER;CN="B%C3%BCcherei Pflaumheim":MAILTO:info@buecherei-pflaumheim.de
END:VEVENT
BEGIN:VEVENT
DTSTART;TZID=Europe/Berlin:20241123T140000
DTEND;TZID=Europe/Berlin:20241123T160000
DTSTAMP:20260422T173100
CREATED:20241003T190207Z
LAST-MODIFIED:20241003T190246Z
UID:1732-1732370400-1732377600@buecherei-pflaumheim.de
SUMMARY:Adventsbasteln
DESCRIPTION:Adventsbasteln in der Bücherei \nund \nLaubsägearbeiten mit der KAB im Raum des „Roten Kreuz“ \nBitte Kleber\, Schere und Stifte mitbringen\nAnmeldung in der Bücherei erforderlich\nUnkostenbeitrag 3€
URL:https://buecherei-pflaumheim.de/event/adventsbasteln-2
LOCATION:Bücherei in der alten Schule\, Am Kirchplatz 7\, Pflaumheim\, 63762
ATTACH;FMTTYPE=image/jpeg:https://buecherei-pflaumheim.de/wp-content/uploads/Adventsbasteln_2024_mit_Laubsaege_Plakat_A3-scaled.jpg
ORGANIZER;CN="B%C3%BCcherei Pflaumheim":MAILTO:info@buecherei-pflaumheim.de
END:VEVENT
BEGIN:VEVENT
DTSTART;TZID=Europe/Berlin:20241122T190000
DTEND;TZID=Europe/Berlin:20241122T220000
DTSTAMP:20260422T173100
CREATED:20240909T210746Z
LAST-MODIFIED:20240909T210746Z
UID:1723-1732302000-1732312800@buecherei-pflaumheim.de
SUMMARY:Literarischer Salon - Troilus und Cressida
DESCRIPTION:Literarischer Salon in der Musikschule Großostheim mit dem Thema: Troilus und Cressida von William Shakespeare
URL:https://buecherei-pflaumheim.de/event/literarischer-salon-troilus-und-cressida
LOCATION:Musikschule im Nöthigsgut – Großostheim\, Kanzleistraße 2\, Großostheim\, 63762
ORGANIZER;CN="Musikschule Gro%C3%9Fostheim":MAILTO:musikschule-grossostheim@mgo-data.de
END:VEVENT
BEGIN:VEVENT
DTSTART;VALUE=DATE:20241115
DTEND;VALUE=DATE:20241116
DTSTAMP:20260422T173100
CREATED:20240909T210407Z
LAST-MODIFIED:20241003T185819Z
UID:1721-1731628800-1731715199@buecherei-pflaumheim.de
SUMMARY:Bundesweiter Vorlesetag
DESCRIPTION:Vorlesenachmittag am Bundesweiten Vorlesetag. Thema: Vorlesen verbindet
URL:https://buecherei-pflaumheim.de/event/bundesweiter-vorlesetag-3
LOCATION:Bücherei in der alten Schule\, Am Kirchplatz 7\, Pflaumheim\, 63762
ATTACH;FMTTYPE=image/jpeg:https://buecherei-pflaumheim.de/wp-content/uploads/2024-11_Plakat_Vorlesetag_A3-scaled.jpg
ORGANIZER;CN="B%C3%BCcherei Pflaumheim":MAILTO:info@buecherei-pflaumheim.de
END:VEVENT
BEGIN:VEVENT
DTSTART;TZID=Europe/Berlin:20241025T190000
DTEND;TZID=Europe/Berlin:20241026T100000
DTSTAMP:20260422T173100
CREATED:20240909T210150Z
LAST-MODIFIED:20241003T185844Z
UID:1719-1729882800-1729936800@buecherei-pflaumheim.de
SUMMARY:30. Schmökernacht 2024
DESCRIPTION:am 25. auf den 26. Oktober ist es wieder soweit. Wir laden alle Kinder ab 7. Jahre zur 30. Schmökernacht ein. \nNeben unserer traditionellen Nachtwanderung mit Taschenlampen darf wieder nach herzenslust gespielt und geschmökert werden bis die Augen zufallen… und soviel dürfen wir bereits verraten. Zu unserem 30. Jubiläum haben wir noch die eine oder andere Überraschung im Ärmel. Alle teilnehmenden Kinder dürfen hierzu\, wenn vorhanden gerne neonfarbene Kleidung und oder Nacht-leuchtende Kuscheltiere oder ähnliches mitbringen. \nDie Teilnehmerzahl ist begrenzt. Eine verbindliche Anmeldung ist notwendig. \nWeitere Informationen werden in Kürze hier und in der Bücherei bekannt gegeben.
URL:https://buecherei-pflaumheim.de/event/30-schmoekernacht-2024
LOCATION:Bücherei in der alten Schule\, Am Kirchplatz 7\, Pflaumheim\, 63762
ATTACH;FMTTYPE=image/jpeg:https://buecherei-pflaumheim.de/wp-content/uploads/2024_30ste_Schmoekernacht_Plakat-scaled.jpg
ORGANIZER;CN="B%C3%BCcherei Pflaumheim":MAILTO:info@buecherei-pflaumheim.de
END:VEVENT
BEGIN:VEVENT
DTSTART;TZID=Europe/Berlin:20240922T100000
DTEND;TZID=Europe/Berlin:20240922T170000
DTSTAMP:20260422T173100
CREATED:20240909T173406Z
LAST-MODIFIED:20240909T173924Z
UID:1710-1726999200-1727024400@buecherei-pflaumheim.de
SUMMARY:Tag der offenen Tür 2024
DESCRIPTION:die Bücherei Pflaumheim lädt ein zum Tag der offenen Tür. \nGanztägige Ausleihe mit neuen Medien und der Gelegenheit die Bücherei besser kennenzulernen. \nAktionen für Kinder\n· Basteln & Kindertattoos ab 14 Uhr\n· Erzähltheater und Lieder zum Mitsingen\njeweils um 14.30 und 15.30 Uhr \nBücherei-Café ab 14 Uhr\nKaffee und Kuchen bei einem gemütlichen Plausch im Bücherei-Café
URL:https://buecherei-pflaumheim.de/event/tag-der-offenen-tuer-2024
LOCATION:Bücherei in der alten Schule\, Am Kirchplatz 7\, Pflaumheim\, 63762
ATTACH;FMTTYPE=image/png:https://buecherei-pflaumheim.de/wp-content/uploads/Plakat-Tag-der-offenen-Tuer-2024.png
ORGANIZER;CN="B%C3%BCcherei Pflaumheim":MAILTO:info@buecherei-pflaumheim.de
END:VEVENT
BEGIN:VEVENT
DTSTART;TZID=Europe/Berlin:20240614T190000
DTEND;TZID=Europe/Berlin:20240614T220000
DTSTAMP:20260422T173100
CREATED:20240604T185924Z
LAST-MODIFIED:20240604T190023Z
UID:1682-1718391600-1718402400@buecherei-pflaumheim.de
SUMMARY:Literarischer Salon - Timon von Athen
DESCRIPTION:Betrachtung zu Timon von Athen von Wiliam Shakespeare \nEine Veranstaltung der Musikschule Großostheim in Kooperation mit der VHS Großostheim und der Bücherei Pflaumheim
URL:https://buecherei-pflaumheim.de/event/literarischer-salon-timon-von-athen
LOCATION:Musikschule im Nöthigsgut – Großostheim\, Kanzleistraße 2\, Großostheim\, 63762
ATTACH;FMTTYPE=image/jpeg:https://buecherei-pflaumheim.de/wp-content/uploads/2024-06-14_Literarischer-Salon_Insta_1080x1080px.jpg
ORGANIZER;CN="Musikschule Gro%C3%9Fostheim":MAILTO:musikschule-grossostheim@mgo-data.de
END:VEVENT
BEGIN:VEVENT
DTSTART;TZID=Europe/Berlin:20240609T100000
DTEND;TZID=Europe/Berlin:20240609T170000
DTSTAMP:20260422T173100
CREATED:20240604T190230Z
LAST-MODIFIED:20240604T190230Z
UID:1686-1717927200-1717952400@buecherei-pflaumheim.de
SUMMARY:Buchflohmarkt und Kirchturmbesichtigung
DESCRIPTION:Am Sonntag\, 9. Juni lädt die Bücherei von 10 – 17 Uhr auf dem Parkplatz neben der Kirche zum jährlichen gut bestückten Buchflohmarkt ein. Neben rund 8.000 gespendeten Büchern für alle Altersklassen und aus fast allen Sparten werden auch Spiele\, DVDs\, CDs und Schallplatten angeboten. Viele Bildbände und Klassikerausgaben\, die sich im Lager befinden stehen ebenfalls zum Kauf bereit. Alle Medien sind in einwandfreiem Zustand und preisgünstig zu erhalten. Der Erlös der Veranstaltung wird für die Medienausstattung der Bücherei Pflaumheim verwendet. Der Flohmarkt findet bei jedem Wetter statt Beim Aufbau des Flohmarktes am Sonntag ab 08.00 Uhr und beim Abbau ab 17.00 Uhr sind Helfer stets willkommen. \nAn diesem Tag werden auch geführte Kirchturmbesichtigungen angeboten. Beginn jeweils um 14\, 15 und 16 Uhr\, Anmeldung hierzu in der Bücherei erforderlich.
URL:https://buecherei-pflaumheim.de/event/buchflohmarkt-und-kirchturmbesichtigung
LOCATION:Kirchplatz vor der Bücherei\, Am Kirchplatz 7\, Pflaumheim\, 63762
ATTACH;FMTTYPE=image/jpeg:https://buecherei-pflaumheim.de/wp-content/uploads/DSC_0244-scaled.jpg
ORGANIZER;CN="B%C3%BCcherei Pflaumheim":MAILTO:info@buecherei-pflaumheim.de
END:VEVENT
BEGIN:VEVENT
DTSTART;TZID=Europe/Berlin:20240308T190000
DTEND;TZID=Europe/Berlin:20240308T230000
DTSTAMP:20260422T173100
CREATED:20240220T161321Z
LAST-MODIFIED:20240220T161321Z
UID:1605-1709924400-1709938800@buecherei-pflaumheim.de
SUMMARY:Nacht der Spiele
DESCRIPTION:Spiel mal wieder! \nDie Bücherei Pflaumheim lädt zum Spieleabend für Jugendliche und Erwachsene. Die Büchereimitarbeiter haben einige interessante\, neue Spiele für den Abend ausgewählt und es stehen ausreichend Spielleiterinnen und Spielleiter bereit damit direkt losgespielt werden kann. \nFür Kabbereien und Getränke ist gesorgt. \nNatürlich können Sie auch gerne eigene Spiele mitbringen bzw. unsere Auswahl nutzen.
URL:https://buecherei-pflaumheim.de/event/nacht-der-spiele
LOCATION:Bücherei in der alten Schule\, Am Kirchplatz 7\, Pflaumheim\, 63762
ATTACH;FMTTYPE=image/jpeg:https://buecherei-pflaumheim.de/wp-content/uploads/2024_Spieleabend_Plakat_A3_02-scaled.jpg
ORGANIZER;CN="B%C3%BCcherei Pflaumheim":MAILTO:info@buecherei-pflaumheim.de
END:VEVENT
BEGIN:VEVENT
DTSTART;TZID=Europe/Berlin:20240126T190000
DTEND;TZID=Europe/Berlin:20240126T220000
DTSTAMP:20260422T173100
CREATED:20240121T151855Z
LAST-MODIFIED:20240121T152005Z
UID:1590-1706295600-1706306400@buecherei-pflaumheim.de
SUMMARY:Auf dem Olavsweg - Pilgern im Norden Europas
DESCRIPTION:Elke und Jörg sind in 31 Tagen auf dem Olavsweg in Norwegen von Oslo nach Trondheim gepilgert. Von ihren Erlebnissen und Erfahrungen auf dem 643 km langen Pilgerweg berichten die beiden in einem Bildervortrag in der Bücherei. Eintritt frei. Gerne dürfen Sie für die Büchereiarbeit in Pflaumheim etwas spenden.
URL:https://buecherei-pflaumheim.de/event/auf-dem-olavsweg-pilgern-im-norden-europas
LOCATION:Bücherei in der alten Schule\, Am Kirchplatz 7\, Pflaumheim\, 63762
ATTACH;FMTTYPE=image/jpeg:https://buecherei-pflaumheim.de/wp-content/uploads/IMG-20240121-WA0006.jpg
ORGANIZER;CN="B%C3%BCcherei Pflaumheim":MAILTO:info@buecherei-pflaumheim.de
END:VEVENT
BEGIN:VEVENT
DTSTART;TZID=Europe/Berlin:20231125T140000
DTEND;TZID=Europe/Berlin:20231125T160000
DTSTAMP:20260422T173100
CREATED:20231103T215946Z
LAST-MODIFIED:20231103T220322Z
UID:1566-1700920800-1700928000@buecherei-pflaumheim.de
SUMMARY:Adventsbasteln
DESCRIPTION:Adventsbasteln in der Bücherei \nund \nLaubsägearbeiten mit der KAB im Raum des „Roten Kreuz“ \nBitte Kleber\, Schere und Stifte mitbringen\nAnmeldung in der Bücherei erforderlich\nUnkostenbeitrag 3€
URL:https://buecherei-pflaumheim.de/event/adventsbasteln
LOCATION:Bücherei in der alten Schule\, Am Kirchplatz 7\, Pflaumheim\, 63762
ATTACH;FMTTYPE=image/jpeg:https://buecherei-pflaumheim.de/wp-content/uploads/Adventsbasteln_2023_mit_Laubsaege_Plakat_A3-scaled.jpg
ORGANIZER;CN="B%C3%BCcherei Pflaumheim":MAILTO:info@buecherei-pflaumheim.de
END:VEVENT
BEGIN:VEVENT
DTSTART;TZID=Europe/Berlin:20231124T190000
DTEND;TZID=Europe/Berlin:20231124T220000
DTSTAMP:20260422T173100
CREATED:20230813T082731Z
LAST-MODIFIED:20231027T123148Z
UID:1544-1700852400-1700863200@buecherei-pflaumheim.de
SUMMARY:Literarischer Salon Shakespeare "Coriolanus"
DESCRIPTION:Literarischer Salon um 19 Uhr Musikschule am Nöthigsgut Großostheim.Thema ist „Coriolanus”\, eine Tragödie von Shakespeare.
URL:https://buecherei-pflaumheim.de/event/literarischer-salon-shakespeare-coriolanus
LOCATION:Musikschule im Nöthigsgut – Großostheim\, Kanzleistraße 2\, Großostheim\, 63762
ATTACH;FMTTYPE=image/jpeg:https://buecherei-pflaumheim.de/wp-content/uploads/2023-11-24_Literarischer-Salon_Plakat_Coriolanus_A3-scaled.jpg
ORGANIZER;CN="Musikschule Gro%C3%9Fostheim":MAILTO:musikschule-grossostheim@mgo-data.de
END:VEVENT
END:VCALENDAR