BEGIN:VCALENDAR
VERSION:2.0
PRODID:-//Bücherei Pflaumheim - ECPv6.15.13//NONSGML v1.0//EN
CALSCALE:GREGORIAN
METHOD:PUBLISH
X-ORIGINAL-URL:https://buecherei-pflaumheim.de
X-WR-CALDESC:Veranstaltungen für Bücherei Pflaumheim
REFRESH-INTERVAL;VALUE=DURATION:PT1H
X-Robots-Tag:noindex
X-PUBLISHED-TTL:PT1H
BEGIN:VTIMEZONE
TZID:Europe/Berlin
BEGIN:DAYLIGHT
TZOFFSETFROM:+0100
TZOFFSETTO:+0200
TZNAME:CEST
DTSTART:20250330T010000
END:DAYLIGHT
BEGIN:STANDARD
TZOFFSETFROM:+0200
TZOFFSETTO:+0100
TZNAME:CET
DTSTART:20251026T010000
END:STANDARD
BEGIN:DAYLIGHT
TZOFFSETFROM:+0100
TZOFFSETTO:+0200
TZNAME:CEST
DTSTART:20260329T010000
END:DAYLIGHT
BEGIN:STANDARD
TZOFFSETFROM:+0200
TZOFFSETTO:+0100
TZNAME:CET
DTSTART:20261025T010000
END:STANDARD
BEGIN:DAYLIGHT
TZOFFSETFROM:+0100
TZOFFSETTO:+0200
TZNAME:CEST
DTSTART:20270328T010000
END:DAYLIGHT
BEGIN:STANDARD
TZOFFSETFROM:+0200
TZOFFSETTO:+0100
TZNAME:CET
DTSTART:20271031T010000
END:STANDARD
END:VTIMEZONE
BEGIN:VEVENT
DTSTART;VALUE=DATE:20260615
DTEND;VALUE=DATE:20260616
DTSTAMP:20260422T161616
CREATED:20260222T093444Z
LAST-MODIFIED:20260222T093444Z
UID:1932-1781481600-1781567999@buecherei-pflaumheim.de
SUMMARY:Buchflohmarkt
DESCRIPTION:Großer Buchflohmarkt auf dem Kirchplatz
URL:https://buecherei-pflaumheim.de/event/buchflohmarkt-2
LOCATION:Kirchplatz vor der Bücherei\, Am Kirchplatz 7\, Pflaumheim\, 63762
ORGANIZER;CN="B%C3%BCcherei Pflaumheim":MAILTO:info@buecherei-pflaumheim.de
END:VEVENT
BEGIN:VEVENT
DTSTART;TZID=Europe/Berlin:20260617T183000
DTEND;TZID=Europe/Berlin:20260617T210000
DTSTAMP:20260422T161616
CREATED:20260222T095017Z
LAST-MODIFIED:20260222T095017Z
UID:1943-1781721000-1781730000@buecherei-pflaumheim.de
SUMMARY:Spieleabend
DESCRIPTION:Jeden 3. Mittwoch im Monat: Spieleabend mit dem „Ploimer Treff“ im Haus der Vereine \nEs stehen unterschiedliche Spiele mit Spielleiter zur Verfügung. Gerne dürfen auch eigene Spiele mitgebracht werden.\nEinfach vorbeikommen und mitspielen!
URL:https://buecherei-pflaumheim.de/event/spieleabend-6
LOCATION:Haus der Vereine Pflaumheim\, Kirchgasse 1\, Pflaumheim\, 63762
ATTACH;FMTTYPE=image/jpeg:https://buecherei-pflaumheim.de/wp-content/uploads/2026_Spieleabend_Haus-der-Vereine_Insta_4zu5_1080x1350px_01.jpg
END:VEVENT
END:VCALENDAR